BEGIN:VCALENDAR
VERSION:2.0
PRODID:-//wp-events-plugin.com//7.2.3.1//EN
TZID:Europe/Amsterdam
X-WR-TIMEZONE:Europe/Amsterdam
BEGIN:VEVENT
UID:4@embnederland.nl
DTSTART;TZID=Europe/Amsterdam:20260509T094500
DTEND;TZID=Europe/Amsterdam:20260510T170000
DTSTAMP:20260319T212919Z
URL:https://embnederland.nl/evenement/familiedagen-bij-sailwise/
SUMMARY:Familiedagen bij SailWise
DESCRIPTION:Kom varen\, kanoën en zeilen bij SailWise\nBen jij erbij op za
 terdag 9 of zondag 10 mei?\nNa het grote succes van vorig jaar organiseren
  we dit jaar opnieuw twee familiedagen op het Robinson Crusoe-eiland van S
 ailWise op de Loosdrechtse Plassen. Op zaterdag 9 en zondag 10 mei ben je 
 van harte welkom voor een ontspannen dag op en rond het water met het hele
  gezin. Je kunt er zeilen\, kanoën\, varen in een catamaran of trimaran o
 f gewoon ontspannen langs de waterkant. Niets moet\, alles mag\, en iedere
 en kan meedoen.\n\nHet eiland en de boten zijn volledig toegankelijk. Somm
 ige boten zijn toegankelijk met een rolstoel\, andere zijn voorzien van sp
 eciale zittingen of zitkussens. Daarnaast zijn er tilliften\, rolstoelvrie
 ndelijke paden\, aangepaste toiletten en privé-ruimtes met bedden voor wi
 e tussendoor wil rusten of even minder prikkels nodig heeft. Zo kan iedere
 en de dag op zijn eigen tempo beleven. Een team van ervaren vrijwilligers 
 staat klaar om waar nodig te helpen.\n\nTussen de activiteiten door is er 
 alle ruimte om andere gezinnen te ontmoeten. EMB Nederland verzorgt bovend
 ien een heerlijke lunch.\n\nWil je erbij zijn? Wacht dan niet te lang met 
 aanmelden\, want het aantal plekken is beperkt!
ATTACH;FMTTYPE=image/jpeg:https://embnederland.nl/wp-content/uploads/2026/
 03/EMB_weekend_sailwise_zaterdag_highres_RosaQuistPhotography_0118-e177309
 1231653.jpg
LOCATION:Robinson Crusoe Eiland Loosdrecht\, Bibian Mentel pier\, Loosdrech
 t\, 1231 HC \, Nederland
X-APPLE-STRUCTURED-LOCATION;VALUE=URI;X-ADDRESS=Bibian Mentel pier\, Loosdr
 echt\, 1231 HC \, Nederland;X-APPLE-RADIUS=100;X-TITLE=Robinson Crusoe Eil
 and Loosdrecht:geo:0,0
END:VEVENT
BEGIN:VTIMEZONE
TZID:Europe/Amsterdam
X-LIC-LOCATION:Europe/Amsterdam
BEGIN:DAYLIGHT
DTSTART:20260329T030000
TZOFFSETFROM:+0100
TZOFFSETTO:+0200
TZNAME:CEST
END:DAYLIGHT
END:VTIMEZONE
END:VCALENDAR