BEGIN:VCALENDAR
VERSION:2.0
PRODID:-//wp-events-plugin.com//7.2.3.1//EN
TZID:Europe/Amsterdam
X-WR-TIMEZONE:Europe/Amsterdam
BEGIN:VEVENT
UID:3@embnederland.nl
DTSTART;TZID=Europe/Amsterdam:20260416T093000
DTEND;TZID=Europe/Amsterdam:20260418T163000
DTSTAMP:20260407T170011Z
URL:https://embnederland.nl/evenement/veinedagen/
SUMMARY:VeineDAGEN – 16\, 17 en 18 april
DESCRIPTION:Op 16\, 17 en 18 april komen de VeineDAGEN &amp\; de ZiezoBEURS
  weer naar de Jaarbeurs in Utrecht! Drie dagen lang draait het hier om ied
 ereen met een beperking. Iedereen die op de VeineDAGEN &amp\; ZiezoBEURS s
 taat\, begrijpt de uitdagingen die mensen met een beperking\, hun verwante
 n en zorgverleners tegen kunnen komen. Daarom staan 270 bedrijven klaar om
  te luisteren\, te ondersteunen\, of om jou te informeren en te inspireren
 .\nOok EMB Nederland is aanwezig. We gaan graag met je in gesprek over ons
  werk\, waar jij tegenaan loopt en onze familiedagen bij SailWise. Ook kun
  je verschillende praktische handleidingen komen halen\, zoals de VinkWijz
 er of de Factsheet Rechtsbescherming. Zien we je daar?\n\nDagen en opening
 stijden VeineDAGEN 2026:\n\n\n 	Donderdag 16 april van 9.30 uur – 16.30 
 uur\n 	Vrijdag 17 april van 9.30 uur – 16.30 uur\n 	Zaterdag 18 april va
 n 9.30 uur – 16.30 uur\n\n\nVoor meer informatie kun je kijken op https
 ://veinedagen.nl/voor-wie-zijn-de-veinedagen/. Je kunt je hier ook gratis 
 registreren.\n\n&nbsp\;
LOCATION:Jaarbeurs Utrecht\, \, 
X-APPLE-STRUCTURED-LOCATION;VALUE=URI;X-ADDRESS=\, ;X-APPLE-RADIUS=100;X-TI
 TLE=Jaarbeurs Utrecht:geo:0,0
END:VEVENT
BEGIN:VTIMEZONE
TZID:Europe/Amsterdam
X-LIC-LOCATION:Europe/Amsterdam
BEGIN:DAYLIGHT
DTSTART:20260329T030000
TZOFFSETFROM:+0100
TZOFFSETTO:+0200
TZNAME:CEST
END:DAYLIGHT
END:VTIMEZONE
END:VCALENDAR